BEGIN:VCALENDAR
VERSION:2.0
PRODID:-//VMCC - ECPv6.15.20//NONSGML v1.0//EN
CALSCALE:GREGORIAN
METHOD:PUBLISH
X-ORIGINAL-URL:https://vermontmandir.org
X-WR-CALDESC:Events for VMCC
REFRESH-INTERVAL;VALUE=DURATION:PT1H
X-Robots-Tag:noindex
X-PUBLISHED-TTL:PT1H
BEGIN:VTIMEZONE
TZID:America/New_York
BEGIN:DAYLIGHT
TZOFFSETFROM:-0500
TZOFFSETTO:-0400
TZNAME:EDT
DTSTART:20240310T070000
END:DAYLIGHT
BEGIN:STANDARD
TZOFFSETFROM:-0400
TZOFFSETTO:-0500
TZNAME:EST
DTSTART:20241103T060000
END:STANDARD
BEGIN:DAYLIGHT
TZOFFSETFROM:-0500
TZOFFSETTO:-0400
TZNAME:EDT
DTSTART:20250309T070000
END:DAYLIGHT
BEGIN:STANDARD
TZOFFSETFROM:-0400
TZOFFSETTO:-0500
TZNAME:EST
DTSTART:20251102T060000
END:STANDARD
BEGIN:DAYLIGHT
TZOFFSETFROM:-0500
TZOFFSETTO:-0400
TZNAME:EDT
DTSTART:20260308T070000
END:DAYLIGHT
BEGIN:STANDARD
TZOFFSETFROM:-0400
TZOFFSETTO:-0500
TZNAME:EST
DTSTART:20261101T060000
END:STANDARD
END:VTIMEZONE
BEGIN:VEVENT
DTSTART;TZID=America/New_York:20250830T090000
DTEND;TZID=America/New_York:20250830T200000
DTSTAMP:20260419T141923
CREATED:20241219T233146Z
LAST-MODIFIED:20250120T004153Z
UID:1085-1756544400-1756584000@vermontmandir.org
SUMMARY:Ganesh Chaturthi
DESCRIPTION:Pooja with pandit Sridharji with prasad lunch donated by devotees. \nGanesh Chaturthi\, also known as Vinayaka Chaturthi\, is a Hindu festival celebrating the birth of Lord Ganesha\, the god of wisdom\, prosperity\, and new beginnings. It is observed during the Shukla Paksha Chaturthi (fourth day of the waxing moon) in the month of Bhadrapada (August–September). \n1.Symbol of New Beginnings: \n•Ganesha is invoked at the start of new ventures to remove obstacles and bring success. \n2.Unity and Community: \n•The festival fosters social harmony\, with communities coming together for grand celebrations. \n3.Cultural and Spiritual Importance: \n•The festival honors Ganesha as the Vighnaharta (remover of obstacles) and Buddhi Pradaayaka (bestower of wisdom). \nSpiritual Teachings \n1.Overcoming Obstacles: \n•Ganesha teaches us to approach challenges with wisdom and courage. \n2.Unity and Humility: \n•The festival emphasizes community and the joy of sharing. \n3.Respect for Nature: \n•Encourages living in harmony with the environment.
URL:https://vermontmandir.org/event/ganesh-chaturthi/
LOCATION:St. James Episcopal Church\, 4 St James Place\, Essex Jct.\, VT\, 05452\, United States
END:VEVENT
END:VCALENDAR