BEGIN:VCALENDAR
VERSION:2.0
PRODID:-//VMCC - ECPv6.15.20//NONSGML v1.0//EN
CALSCALE:GREGORIAN
METHOD:PUBLISH
X-WR-CALNAME:VMCC
X-ORIGINAL-URL:https://vermontmandir.org
X-WR-CALDESC:Events for VMCC
REFRESH-INTERVAL;VALUE=DURATION:PT1H
X-Robots-Tag:noindex
X-PUBLISHED-TTL:PT1H
BEGIN:VTIMEZONE
TZID:America/New_York
BEGIN:DAYLIGHT
TZOFFSETFROM:-0500
TZOFFSETTO:-0400
TZNAME:EDT
DTSTART:20250309T070000
END:DAYLIGHT
BEGIN:STANDARD
TZOFFSETFROM:-0400
TZOFFSETTO:-0500
TZNAME:EST
DTSTART:20251102T060000
END:STANDARD
BEGIN:DAYLIGHT
TZOFFSETFROM:-0500
TZOFFSETTO:-0400
TZNAME:EDT
DTSTART:20260308T070000
END:DAYLIGHT
BEGIN:STANDARD
TZOFFSETFROM:-0400
TZOFFSETTO:-0500
TZNAME:EST
DTSTART:20261101T060000
END:STANDARD
BEGIN:DAYLIGHT
TZOFFSETFROM:-0500
TZOFFSETTO:-0400
TZNAME:EDT
DTSTART:20270314T070000
END:DAYLIGHT
BEGIN:STANDARD
TZOFFSETFROM:-0400
TZOFFSETTO:-0500
TZNAME:EST
DTSTART:20271107T060000
END:STANDARD
END:VTIMEZONE
BEGIN:VEVENT
DTSTART;TZID=America/New_York:20261017T160000
DTEND;TZID=America/New_York:20261017T210000
DTSTAMP:20260420T013646
CREATED:20260106T001418Z
LAST-MODIFIED:20260106T001418Z
UID:1219-1792252800-1792270800@vermontmandir.org
SUMMARY:Bathukamma
DESCRIPTION:Bathukamma is a vibrant and traditional festival celebrated primarily in the Indian state of Telangana and parts of Andhra Pradesh. It honors the goddess Gauri (a form of Maa Parvati) and is observed during the Telugu calendar month of Bhadrapada\, typically coinciding with the Hindu festival of Durga Ashtami and lasts for nine days\, ending on Dussehra. The name “Bathukamma” translates to “Mother Goddess come alive\,” symbolizing life\, growth\, and fertility. \nSignificance of Bathukamma \n1.Celebration of Motherhood and Fertility: \n•Bathukamma symbolizes the worship of Gauri\, the goddess of life\, who is believed to bring prosperity\, good health\, and fertility. The festival is an expression of love and gratitude towards the goddess for nurturing life on Earth. \n2.A Harvest Festival: \n•Bathukamma also marks the beginning of the harvest season\, symbolizing nature’s bounty and beauty. It is associated with the agricultural practices and the renewal of life and vegetation. \n3.Female Empowerment: \n•The festival is largely a women’s festival\, where women play an active role in the celebrations\, symbolizing their power and significance in maintaining balance in the world. \nSpiritual Significance \n•Celebrating Nature’s Bounty: Bathukamma honors the cycle of nature\, with flowers representing the beauty and growth of life. It serves as a reminder of the interconnection between humans and the natural world. \n•Blessings of the Goddess: Through the worship of Gauri\, devotees seek blessings for prosperity\, good health\, and overall well-being. It is believed that worshiping her during Bathukamma brings peace and harmony to the family.
URL:https://vermontmandir.org/event/bathukamma/
LOCATION:St. James Episcopal Church\, 4 St James Place\, Essex Jct.\, VT\, 05452\, United States
END:VEVENT
BEGIN:VEVENT
DTSTART;TZID=America/New_York:20261024T140000
DTEND;TZID=America/New_York:20261024T210000
DTSTAMP:20260420T013646
CREATED:20260106T001603Z
LAST-MODIFIED:20260106T001603Z
UID:1221-1792850400-1792875600@vermontmandir.org
SUMMARY:Dussehra
DESCRIPTION:  \nDussehra\, also known as Vijayadashami\, is one of the most important and widely celebrated Hindu festivals. It marks the victory of good over evil and symbolizes the triumph of Lord Rama over the demon king Ravana\, as well as the victory of Durga over the buffalo demon Mahishasura. It typically falls on the tenth day of Ashvin (September–October) in the Hindu lunisolar calendar and is the culmination of the Navratri festival. \nSignificance of Dussehra \n1.Victory of Lord Rama over Ravana: \n•Dussehra commemorates the day when Lord Rama\, the prince of Ayodhya\, defeated the demon king Ravana and rescued his wife Sita after a long battle. The story of Rama’s victory over Ravana is recounted in the Ramayana\, where Ravana\, symbolizing ego\, pride\, and evil\, is vanquished by Rama\, the embodiment of dharma (righteousness). \n2.Victory of Goddess Durga over Mahishasura: \n•Dussehra also celebrates the victory of Goddess Durga over the demon Mahishasura. According to the legend\, Mahishasura\, a buffalo-headed demon\, had gained immense power and terrorized the world. The gods and goddesses created Durga\, a powerful form of Shakti\, who defeated him in battle. This aspect of the festival is especially celebrated in Eastern India\, particularly in West Bengal\, where it marks the culmination of the Durga Puja. \n3.End of Evil: \n•Dussehra is a symbol of the triumph of good over evil\, and people observe the festival with the belief that it will help eradicate negativity\, obstacles\, and evil forces in their lives.
URL:https://vermontmandir.org/event/dussehra-2/
LOCATION:St. James Episcopal Church\, 4 St James Place\, Essex Jct.\, VT\, 05452\, United States
END:VEVENT
BEGIN:VEVENT
DTSTART;TZID=America/New_York:20261108T140000
DTEND;TZID=America/New_York:20261108T210000
DTSTAMP:20260420T013646
CREATED:20260106T001841Z
LAST-MODIFIED:20260106T001841Z
UID:1223-1794146400-1794171600@vermontmandir.org
SUMMARY:Diwali
DESCRIPTION:  \nDiwali\, also known as the Festival of Lights\, is one of the most widely celebrated festivals in India and across the world. It marks the victory of light over darkness and good over evil\, and it is dedicated to the worship of Lord Rama\, the goddess Lakshmi\, and various other deities depending on regional traditions. The festival generally falls between October and November\, on the 15th day of the Hindu month of Kartika. \nSignificance of Diwali \n1.Return of Lord Rama to Ayodhya: \n•Diwali celebrates the return of Lord Rama to Ayodhya after 14 years of exile and his victory over the demon king Ravana. It is believed that the people of Ayodhya lit oil lamps (diyas) to welcome Rama home\, symbolizing the triumph of good over evil. \n2.Worship of Goddess Lakshmi: \n•Diwali is also the day that Goddess Lakshmi\, the goddess of wealth\, prosperity\, and good fortune\, is worshiped. According to tradition\, it is on this day that she visits homes that are clean and well-lit\, bringing blessings for the coming year. \n3.Victory of Good Over Evil: \n•Diwali is celebrated as the victory of good over evil\, light over darkness\, and knowledge over ignorance. It is a time to reflect on removing inner darkness and impurities. \n4.The Birth of Lord Krishna (in some regions): \n•In some regions of India\, especially in Mathura and Vrindavan\, Diwali is celebrated to mark the birth of Lord Krishna\, who is believed to have defeated the demon Narakasura on this day. \nSpiritual and Moral Lessons of Diwali \n1.Victory of Good Over Evil: \n•Diwali serves as a reminder that good will ultimately triumph over evil\, no matter how powerful evil forces may seem. It encourages individuals to purify their hearts and minds and strive for righteousness. \n2.Self-Reflection and Renewal: \n•The lighting of diyas and the cleaning of homes symbolize the removal of ignorance and the illumination of the soul. Diwali encourages self-reflection\, self-improvement\, and the removal of negative qualities like pride\, greed\, and envy. \n3.Gratitude and Generosity: \n•Diwali is a time for expressing gratitude to loved ones\, neighbors\, and the community. It emphasizes the importance of giving\, sharing\, and helping those in need\, both materially and spiritually.
URL:https://vermontmandir.org/event/diwali-2/
LOCATION:St. James Episcopal Church\, 4 St James Place\, Essex Jct.\, VT\, 05452\, United States
END:VEVENT
BEGIN:VEVENT
DTSTART;TZID=America/New_York:20261205T100000
DTEND;TZID=America/New_York:20261205T160000
DTSTAMP:20260420T013646
CREATED:20260106T002048Z
LAST-MODIFIED:20260106T002048Z
UID:1225-1796464800-1796486400@vermontmandir.org
SUMMARY:Satyanarayana Pooja
DESCRIPTION:Satyanarayana Pooja is a popular Hindu religious ritual dedicated to Lord Vishnu in his form as Satyanarayana. The name “Satyanarayana” combines two words: “Satya” meaning truth and “Narayana” which is a name of Lord Vishnu\, representing the supreme being who is the protector and sustainer of the universe. The pooja is performed to seek blessings for health\, wealth\, prosperity\, peace\, and the fulfillment of desires. \nSignificance of Satyanarayana Pooja \n•Divine Blessings: This pooja is believed to bring prosperity\, good health\, success\, and happiness to the devotees. It is often performed when a person or family is beginning a new venture\, after completing a significant milestone\, or during a time of personal or family need. \n•Purification of the Mind and Soul: The pooja helps in cleansing the mind of impurities\, and it is believed to rid devotees of negative karma\, promoting spiritual well-being. \n•Gratitude to Lord Vishnu: It is a way of thanking Lord Vishnu for the blessings received in life and asking for his grace to overcome obstacles and challenges. \nBenefits of Performing Satyanarayana Pooja \n1.Spiritual and Material Fulfillment: It is believed that performing the Satyanarayana Pooja brings both spiritual and material benefits\, such as prosperity\, peace\, and the fulfillment of desires. \n2.Overcoming Obstacles: It is said that Lord Vishnu removes all the obstacles in the devotee’s path\, ensuring success and happiness. \n3.Blessings for Health: The pooja is often performed to seek blessings for good health and to remove negative energies. \n4.Protection and Guidance: The pooja invokes the protection and guidance of Lord Vishnu for the devotee and their family.
URL:https://vermontmandir.org/event/satyanarayana-pooja-2/
LOCATION:St. James Episcopal Church\, 4 St James Place\, Essex Jct.\, VT\, 05452\, United States
END:VEVENT
END:VCALENDAR