BEGIN:VCALENDAR
VERSION:2.0
PRODID:-//VMCC - ECPv6.15.20//NONSGML v1.0//EN
CALSCALE:GREGORIAN
METHOD:PUBLISH
X-WR-CALNAME:VMCC
X-ORIGINAL-URL:https://vermontmandir.org
X-WR-CALDESC:Events for VMCC
REFRESH-INTERVAL;VALUE=DURATION:PT1H
X-Robots-Tag:noindex
X-PUBLISHED-TTL:PT1H
BEGIN:VTIMEZONE
TZID:America/New_York
BEGIN:DAYLIGHT
TZOFFSETFROM:-0500
TZOFFSETTO:-0400
TZNAME:EDT
DTSTART:20230312T070000
END:DAYLIGHT
BEGIN:STANDARD
TZOFFSETFROM:-0400
TZOFFSETTO:-0500
TZNAME:EST
DTSTART:20231105T060000
END:STANDARD
BEGIN:DAYLIGHT
TZOFFSETFROM:-0500
TZOFFSETTO:-0400
TZNAME:EDT
DTSTART:20240310T070000
END:DAYLIGHT
BEGIN:STANDARD
TZOFFSETFROM:-0400
TZOFFSETTO:-0500
TZNAME:EST
DTSTART:20241103T060000
END:STANDARD
BEGIN:DAYLIGHT
TZOFFSETFROM:-0500
TZOFFSETTO:-0400
TZNAME:EDT
DTSTART:20250309T070000
END:DAYLIGHT
BEGIN:STANDARD
TZOFFSETFROM:-0400
TZOFFSETTO:-0500
TZNAME:EST
DTSTART:20251102T060000
END:STANDARD
END:VTIMEZONE
BEGIN:VEVENT
DTSTART;TZID=America/New_York:20240413T100000
DTEND;TZID=America/New_York:20240413T140000
DTSTAMP:20260420T012156
CREATED:20240312T010133Z
LAST-MODIFIED:20240312T010133Z
UID:462-1713002400-1713016800@vermontmandir.org
SUMMARY:Ugadi\, Gudi Padva
DESCRIPTION:
URL:https://vermontmandir.org/event/ugadi-gudi-padva/
LOCATION:St. James Episcopal Church\, 4 St James Place\, Essex Jct.\, VT\, 05452\, United States
END:VEVENT
BEGIN:VEVENT
DTSTART;TZID=America/New_York:20240330T100000
DTEND;TZID=America/New_York:20240330T140000
DTSTAMP:20260420T012156
CREATED:20240312T005328Z
LAST-MODIFIED:20240312T005328Z
UID:456-1711792800-1711807200@vermontmandir.org
SUMMARY:Holi
DESCRIPTION:
URL:https://vermontmandir.org/event/holi/
LOCATION:St. James Episcopal Church\, 4 St James Place\, Essex Jct.\, VT\, 05452\, United States
END:VEVENT
END:VCALENDAR