BEGIN:VCALENDAR
VERSION:2.0
PRODID:-//VMCC - ECPv6.15.20//NONSGML v1.0//EN
CALSCALE:GREGORIAN
METHOD:PUBLISH
X-ORIGINAL-URL:https://vermontmandir.org
X-WR-CALDESC:Events for VMCC
REFRESH-INTERVAL;VALUE=DURATION:PT1H
X-Robots-Tag:noindex
X-PUBLISHED-TTL:PT1H
BEGIN:VTIMEZONE
TZID:America/New_York
BEGIN:DAYLIGHT
TZOFFSETFROM:-0500
TZOFFSETTO:-0400
TZNAME:EDT
DTSTART:20240310T070000
END:DAYLIGHT
BEGIN:STANDARD
TZOFFSETFROM:-0400
TZOFFSETTO:-0500
TZNAME:EST
DTSTART:20241103T060000
END:STANDARD
BEGIN:DAYLIGHT
TZOFFSETFROM:-0500
TZOFFSETTO:-0400
TZNAME:EDT
DTSTART:20250309T070000
END:DAYLIGHT
BEGIN:STANDARD
TZOFFSETFROM:-0400
TZOFFSETTO:-0500
TZNAME:EST
DTSTART:20251102T060000
END:STANDARD
BEGIN:DAYLIGHT
TZOFFSETFROM:-0500
TZOFFSETTO:-0400
TZNAME:EDT
DTSTART:20260308T070000
END:DAYLIGHT
BEGIN:STANDARD
TZOFFSETFROM:-0400
TZOFFSETTO:-0500
TZNAME:EST
DTSTART:20261101T060000
END:STANDARD
END:VTIMEZONE
BEGIN:VEVENT
DTSTART;TZID=America/New_York:20250201T100000
DTEND;TZID=America/New_York:20250201T140000
DTSTAMP:20260419T215035
CREATED:20241219T222803Z
LAST-MODIFIED:20250120T003848Z
UID:1066-1738404000-1738418400@vermontmandir.org
SUMMARY:Basant Panchami
DESCRIPTION:Basant Panchami\, also known as Vasant Panchami\, is a Hindu festival that marks the arrival of spring. Celebrated on the fifth day of the lunar month of Magha (January–February)\, it holds special significance in North India\, West Bengal\, Punjab\, and other parts of the country. \nBasant Panchami is believed to be a day to connect with inner knowledge and wisdom. It signifies the blossoming of nature and the mind. \nSignificance of Basant Panchami \n•Dedicated to Maa Saraswati\, the goddess of wisdom\, learning\, music\, and arts. \n•Marks the beginning of spring (Basant) and is considered an auspicious day for starting new ventures or educational pursuits. \nKey Rituals and Celebrations \n1.Worship of Maa Saraswati: \n•People\, especially students\, artists\, and scholars\, offer prayers to Goddess Saraswati for wisdom and success. \n•Saraswati idols are adorned with yellow clothes\, as yellow symbolizes energy\, prosperity\, and auspiciousness. \n2.Wearing Yellow: \n•Yellow is the dominant color of the day\, representing spring\, harvest\, and spirituality. \n•People wear yellow attire\, prepare yellow-colored dishes\, and decorate with yellow flowers. \n3.Cultural Events: \n•Schools and educational institutions organize special prayers and cultural programs. \n•In some regions\, fairs and processions are held. \n4.Flying Kites: \n•In parts of Punjab and Haryana\, kite flying is a popular tradition\, symbolizing joy and freedom. \n5.Traditional Food: \n•People prepare and enjoy dishes like Kesari Halwa\, Boondi Laddoo\, and Kadhi Chawal. Yellow rice flavored with saffron is also a popular dish.
URL:https://vermontmandir.org/event/basant-panchami/
LOCATION:St. James Episcopal Church\, 4 St James Place\, Essex Jct.\, VT\, 05452\, United States
END:VEVENT
END:VCALENDAR