BEGIN:VCALENDAR
VERSION:2.0
PRODID:-//VMCC - ECPv6.15.20//NONSGML v1.0//EN
CALSCALE:GREGORIAN
METHOD:PUBLISH
X-ORIGINAL-URL:https://vermontmandir.org
X-WR-CALDESC:Events for VMCC
REFRESH-INTERVAL;VALUE=DURATION:PT1H
X-Robots-Tag:noindex
X-PUBLISHED-TTL:PT1H
BEGIN:VTIMEZONE
TZID:America/New_York
BEGIN:DAYLIGHT
TZOFFSETFROM:-0500
TZOFFSETTO:-0400
TZNAME:EDT
DTSTART:20240310T070000
END:DAYLIGHT
BEGIN:STANDARD
TZOFFSETFROM:-0400
TZOFFSETTO:-0500
TZNAME:EST
DTSTART:20241103T060000
END:STANDARD
BEGIN:DAYLIGHT
TZOFFSETFROM:-0500
TZOFFSETTO:-0400
TZNAME:EDT
DTSTART:20250309T070000
END:DAYLIGHT
BEGIN:STANDARD
TZOFFSETFROM:-0400
TZOFFSETTO:-0500
TZNAME:EST
DTSTART:20251102T060000
END:STANDARD
BEGIN:DAYLIGHT
TZOFFSETFROM:-0500
TZOFFSETTO:-0400
TZNAME:EDT
DTSTART:20260308T070000
END:DAYLIGHT
BEGIN:STANDARD
TZOFFSETFROM:-0400
TZOFFSETTO:-0500
TZNAME:EST
DTSTART:20261101T060000
END:STANDARD
END:VTIMEZONE
BEGIN:VEVENT
DTSTART;TZID=America/New_York:20250301T100000
DTEND;TZID=America/New_York:20250301T140000
DTSTAMP:20260419T201151
CREATED:20241219T223024Z
LAST-MODIFIED:20250228T012511Z
UID:1068-1740823200-1740837600@vermontmandir.org
SUMMARY:Shivratri
DESCRIPTION:A very significant festival where the tone is not boisterous\, instead with fasting and meditation somberness is of essence!!\nThe day marks a divine union and a cosmic dance in its various tones….. \nMahashivratri will be celebrated at the mandir on Saturday 03/01/25. This is how the day will flow: \n10:00 to …… Durga ji led Shiv pooja\nBhajans\nNoon Aarti\n12:30 Prasaad \nP.S. 1. Pooja thali for Rudrabhishek will be available to families interested in performing the ritual for a humble donation of $31/thali.\nYour pooja thali will have triveni jal from Mahakumbh! \nShivratri\, particularly Maha Shivratri\, is a significant Hindu festival dedicated to Lord Shiva\, one of the principal deities of Hinduism. The term “Shivratri” means “The Night of Shiva\,” and it is observed on the 14th night of the waning moon in the month of Phalguna (February–March)\, according to the Hindu lunar calendar. \nMaha Shivratri emphasizes self-discipline\, devotion\, and the quest for liberation (moksha). It serves as a reminder of Lord Shiva’s attributes: compassion\, selflessness\, and detachment. \nSignificance of Maha Shivratri \n1.Cosmic Union: It is believed to be the night when Lord Shiva married Goddess Parvati. \n2.Spiritual Enlightenment: The night symbolizes the overcoming of darkness and ignorance in life. \n3.Devotion to Shiva: It marks the occasion when Shiva performed the cosmic dance\, Tandava\, representing creation\, preservation\, and destruction.
URL:https://vermontmandir.org/event/shivratri/
LOCATION:St. James Episcopal Church\, 4 St James Place\, Essex Jct.\, VT\, 05452\, United States
END:VEVENT
BEGIN:VEVENT
DTSTART;TZID=America/New_York:20250315T100000
DTEND;TZID=America/New_York:20250315T153000
DTSTAMP:20260419T201151
CREATED:20241219T223323Z
LAST-MODIFIED:20250120T004529Z
UID:1070-1742032800-1742052600@vermontmandir.org
SUMMARY:Holi
DESCRIPTION:Pooja and fundraiser food event. \nHoli is a vibrant and joyous Hindu festival celebrating the arrival of spring\, the triumph of good over evil\, and the renewal of life. Known as the “Festival of Colors” or the “Festival of Love\,” Holi is observed on the full moon day in the Hindu month of Phalguna (February–March). \nVictory of Good Over Evil: \n•The festival commemorates the legend of Prahlad and Holika\, where the devotion of Prahlad to Lord Vishnu triumphed over his tyrannical father\, King Hiranyakashipu\, and his evil aunt Holika. \n•Holika was burned in a pyre while Prahlad remained unharmed\, symbolizing the destruction of evil. \n2.Celebration of Spring: \n•Holi marks the end of winter and the beginning of the agricultural season\, symbolizing renewal and abundance. \n3.Cultural Bonding: \n•Holi promotes unity and togetherness as people forget past grievances and celebrate with love and joy. \nTraditional Foods \n1.Gujiya: A sweet dumpling filled with khoya and dry fruits. \n2.Thandai: A spiced milk drink often associated with the festival\, sometimes infused with bhang. \n3.Puran Poli\, Dahi Vada\, and Malpua are other festive delicacies. \nHoli fosters unity\, forgiveness\, and joy. It encourages people to let go of negativity\, strengthen relationships\, and celebrate life.
URL:https://vermontmandir.org/event/holi-2025/
LOCATION:St. James Episcopal Church\, 4 St James Place\, Essex Jct.\, VT\, 05452\, United States
END:VEVENT
BEGIN:VEVENT
DTSTART;TZID=America/New_York:20250329T160000
DTEND;TZID=America/New_York:20250329T210000
DTSTAMP:20260419T201151
CREATED:20250312T014053Z
LAST-MODIFIED:20250312T014400Z
UID:1112-1743264000-1743282000@vermontmandir.org
SUMMARY:Ugadi
DESCRIPTION:  \nUgadi is the New Year festival celebrated in the states of Andhra Pradesh\, Telangana\, and Karnataka in India. It marks the beginning of the Hindu lunisolar calendar\, typically falling in March or April. The festival symbolizes new beginnings\, prosperity\, and the arrival of spring. \nSignificance of Ugadi \n•It is observed on Chaitra Shukla Pratipada\, the first day of the Chaitra month (as per the Hindu calendar). \n•Ugadi is believed to be the day when Lord Brahma created the universe. \n•It marks the beginning of a new Samvatsara (year) in the Hindu calendar.
URL:https://vermontmandir.org/event/ugadi/
LOCATION:St. James Episcopal Church\, 4 St James Place\, Essex Jct.\, VT\, 05452\, United States
END:VEVENT
END:VCALENDAR