BEGIN:VCALENDAR
VERSION:2.0
PRODID:-//VMCC - ECPv6.15.20//NONSGML v1.0//EN
CALSCALE:GREGORIAN
METHOD:PUBLISH
X-ORIGINAL-URL:https://vermontmandir.org
X-WR-CALDESC:Events for VMCC
REFRESH-INTERVAL;VALUE=DURATION:PT1H
X-Robots-Tag:noindex
X-PUBLISHED-TTL:PT1H
BEGIN:VTIMEZONE
TZID:America/New_York
BEGIN:DAYLIGHT
TZOFFSETFROM:-0500
TZOFFSETTO:-0400
TZNAME:EDT
DTSTART:20240310T070000
END:DAYLIGHT
BEGIN:STANDARD
TZOFFSETFROM:-0400
TZOFFSETTO:-0500
TZNAME:EST
DTSTART:20241103T060000
END:STANDARD
BEGIN:DAYLIGHT
TZOFFSETFROM:-0500
TZOFFSETTO:-0400
TZNAME:EDT
DTSTART:20250309T070000
END:DAYLIGHT
BEGIN:STANDARD
TZOFFSETFROM:-0400
TZOFFSETTO:-0500
TZNAME:EST
DTSTART:20251102T060000
END:STANDARD
BEGIN:DAYLIGHT
TZOFFSETFROM:-0500
TZOFFSETTO:-0400
TZNAME:EDT
DTSTART:20260308T070000
END:DAYLIGHT
BEGIN:STANDARD
TZOFFSETFROM:-0400
TZOFFSETTO:-0500
TZNAME:EST
DTSTART:20261101T060000
END:STANDARD
END:VTIMEZONE
BEGIN:VEVENT
DTSTART;TZID=America/New_York:20250614T120000
DTEND;TZID=America/New_York:20250614T130000
DTSTAMP:20260419T155304
CREATED:20250312T014259Z
LAST-MODIFIED:20250519T002923Z
UID:1114-1749902400-1749906000@vermontmandir.org
SUMMARY:Open House
DESCRIPTION:
URL:https://vermontmandir.org/event/open-house/
LOCATION:St. James Episcopal Church\, 4 St James Place\, Essex Jct.\, VT\, 05452\, United States
END:VEVENT
BEGIN:VEVENT
DTSTART;TZID=America/New_York:20250621T000000
DTEND;TZID=America/New_York:20250621T235959
DTSTAMP:20260419T155304
CREATED:20250530T214010Z
LAST-MODIFIED:20250530T214010Z
UID:1130-1750464000-1750550399@vermontmandir.org
SUMMARY:Mandir Closed
DESCRIPTION:Mandir will be closed on this day due to conflict with Church function.
URL:https://vermontmandir.org/event/mandir-closed/
LOCATION:St. James Episcopal Church\, 4 St James Place\, Essex Jct.\, VT\, 05452\, United States
END:VEVENT
BEGIN:VEVENT
DTSTART;TZID=America/New_York:20250628T100000
DTEND;TZID=America/New_York:20250628T130000
DTSTAMP:20260419T155304
CREATED:20241219T232351Z
LAST-MODIFIED:20250627T225510Z
UID:1079-1751104800-1751115600@vermontmandir.org
SUMMARY:Sundarkand
DESCRIPTION:Click to open Sundarkand Script – English \n  \nSundarkand (सुन्दरकाण्ड) is the fifth and one of the most revered sections of the Hindu epic Ramayana\, written by the sage Valmiki. The term “Sundarkand” means “beautiful chapter” or “beautiful section”—Sundar meaning beautiful\, and Kand meaning section or book. \nKey Highlights of Sundarkand:\nFocus on Hanuman: The Sundarkand primarily narrates the heroic exploits of Lord Hanuman as he leaps across the ocean to reach Lanka (modern-day Sri Lanka) in search of Sita\, the wife of Lord Rama who was abducted by the demon king Ravana. \nMajor Events in Sundarkand: \n\nHanuman crossing the ocean to Lanka.\nMeeting Vibhishana\, Ravana’s righteous brother.\nDiscovering Sita in the Ashok Vatika.\nHanuman’s confrontation with demons in Lanka and burning of the city.\nReturning to Rama with the good news of Sita’s whereabouts.\n\nSpiritual Significance: \n\nSundarkand is considered highly auspicious and is often recited for courage\, strength\, and protection from negative influences.\nIt highlights the values of devotion (bhakti)\, selfless service\, and unwavering faith.\nMany devotees recite Sundarkand on Tuesdays and Saturdays\, days associated with Lord Hanuman.
URL:https://vermontmandir.org/event/sundarkand/
LOCATION:St. James Episcopal Church\, 4 St James Place\, Essex Jct.\, VT\, 05452\, United States
CATEGORIES:Festivals and Events
END:VEVENT
END:VCALENDAR