BEGIN:VCALENDAR
VERSION:2.0
PRODID:-//VMCC - ECPv6.15.20//NONSGML v1.0//EN
CALSCALE:GREGORIAN
METHOD:PUBLISH
X-WR-CALNAME:VMCC
X-ORIGINAL-URL:https://vermontmandir.org
X-WR-CALDESC:Events for VMCC
REFRESH-INTERVAL;VALUE=DURATION:PT1H
X-Robots-Tag:noindex
X-PUBLISHED-TTL:PT1H
BEGIN:VTIMEZONE
TZID:America/New_York
BEGIN:DAYLIGHT
TZOFFSETFROM:-0500
TZOFFSETTO:-0400
TZNAME:EDT
DTSTART:20240310T070000
END:DAYLIGHT
BEGIN:STANDARD
TZOFFSETFROM:-0400
TZOFFSETTO:-0500
TZNAME:EST
DTSTART:20241103T060000
END:STANDARD
BEGIN:DAYLIGHT
TZOFFSETFROM:-0500
TZOFFSETTO:-0400
TZNAME:EDT
DTSTART:20250309T070000
END:DAYLIGHT
BEGIN:STANDARD
TZOFFSETFROM:-0400
TZOFFSETTO:-0500
TZNAME:EST
DTSTART:20251102T060000
END:STANDARD
BEGIN:DAYLIGHT
TZOFFSETFROM:-0500
TZOFFSETTO:-0400
TZNAME:EDT
DTSTART:20260308T070000
END:DAYLIGHT
BEGIN:STANDARD
TZOFFSETFROM:-0400
TZOFFSETTO:-0500
TZNAME:EST
DTSTART:20261101T060000
END:STANDARD
END:VTIMEZONE
BEGIN:VEVENT
DTSTART;TZID=America/New_York:20250816T100000
DTEND;TZID=America/New_York:20250816T140000
DTSTAMP:20260419T124932
CREATED:20241219T232857Z
LAST-MODIFIED:20250814T011136Z
UID:1083-1755338400-1755352800@vermontmandir.org
SUMMARY:Janmashtami
DESCRIPTION:Priest led Pooja. \nJanmashtami\, also known as Krishna Janmashtami or Gokulashtami\, is a Hindu festival celebrating the birth of Lord Krishna\, the eighth incarnation of Lord Vishnu. Krishna’s birth symbolizes the triumph of good over evil and the advent of divine joy\, love\, and wisdom in the world. \nIt is observed on the Ashtami Tithi (eighth day) of the Krishna Paksha (waning phase of the moon) in the month of Bhadrapada (August–September). \nSpiritual Teachings \nJanmashtami reminds devotees of: \n1.The importance of faith and devotion. \n2.Righteousness in actions\, as exemplified by Krishna’s teachings in the Bhagavad Gita. \n3.Love and compassion\, as Krishna’s life embodies selfless love for humanity. \n  \nSignificance of Janmashtami \n1.Divine Incarnation: \n•Lord Krishna was born to Vasudeva and Devaki in Mathura to end the tyranny of King Kansa and restore dharma (righteousness). \n2.Symbol of Love and Devotion: \n•Krishna’s life teaches selfless love\, compassion\, and devotion to the divine. \n3.Philosophical Teachings: \n•Krishna’s teachings in the Bhagavad Gita guide humanity on leading a righteous and fulfilling life.
URL:https://vermontmandir.org/event/janmashtami/
LOCATION:St. James Episcopal Church\, 4 St James Place\, Essex Jct.\, VT\, 05452\, United States
END:VEVENT
BEGIN:VEVENT
DTSTART;TZID=America/New_York:20250823T100000
DTEND;TZID=America/New_York:20250823T120000
DTSTAMP:20260419T124932
CREATED:20250803T192431Z
LAST-MODIFIED:20250803T192431Z
UID:1145-1755943200-1755950400@vermontmandir.org
SUMMARY:Ganesha Idol Making Workshop
DESCRIPTION:Join us for a creative and meaningful experience as we come together to sculpt Lord Ganesha with natural clay! This hands-on workshop is designed for all age groups—kids\, families\, and art enthusiasts—where you’ll learn the art of idol-making while promoting sustainability and devotion. \nVolunteers are welcome to come forward to help. \nGanesh Chaturthi\, the festival celebrating the birth of Lord Ganesha\, is one of the most vibrant and cherished festivals in India. Traditionally\, idols of Ganesha are installed in homes and public places\, worshipped with devotion\, and immersed in water with the hope that the Lord will return the following year. In recent years\, there has been a growing awareness about the environmental impact of Plaster of Paris (POP) idols and chemical paints used in mass-produced idols. As a result\, many people are turning to eco-friendly clay Ganesha idols\, which are both beautiful and safe for nature.
URL:https://vermontmandir.org/event/ganesha-idol-making-workshop/
LOCATION:St. James Episcopal Church\, 4 St James Place\, Essex Jct.\, VT\, 05452\, United States
CATEGORIES:Festivals and Events
END:VEVENT
BEGIN:VEVENT
DTSTART;TZID=America/New_York:20250830T090000
DTEND;TZID=America/New_York:20250830T200000
DTSTAMP:20260419T124932
CREATED:20241219T233146Z
LAST-MODIFIED:20250120T004153Z
UID:1085-1756544400-1756584000@vermontmandir.org
SUMMARY:Ganesh Chaturthi
DESCRIPTION:Pooja with pandit Sridharji with prasad lunch donated by devotees. \nGanesh Chaturthi\, also known as Vinayaka Chaturthi\, is a Hindu festival celebrating the birth of Lord Ganesha\, the god of wisdom\, prosperity\, and new beginnings. It is observed during the Shukla Paksha Chaturthi (fourth day of the waxing moon) in the month of Bhadrapada (August–September). \n1.Symbol of New Beginnings: \n•Ganesha is invoked at the start of new ventures to remove obstacles and bring success. \n2.Unity and Community: \n•The festival fosters social harmony\, with communities coming together for grand celebrations. \n3.Cultural and Spiritual Importance: \n•The festival honors Ganesha as the Vighnaharta (remover of obstacles) and Buddhi Pradaayaka (bestower of wisdom). \nSpiritual Teachings \n1.Overcoming Obstacles: \n•Ganesha teaches us to approach challenges with wisdom and courage. \n2.Unity and Humility: \n•The festival emphasizes community and the joy of sharing. \n3.Respect for Nature: \n•Encourages living in harmony with the environment.
URL:https://vermontmandir.org/event/ganesh-chaturthi/
LOCATION:St. James Episcopal Church\, 4 St James Place\, Essex Jct.\, VT\, 05452\, United States
END:VEVENT
END:VCALENDAR